BEGIN:VCALENDAR
VERSION:2.0
PRODID:-//ChamberMaster//Event Calendar 2.0//EN
METHOD:PUBLISH
X-PUBLISHED-TTL:P3D
REFRESH-INTERVAL:P3D
CALSCALE:GREGORIAN
BEGIN:VEVENT
DTSTART:20120613T151500Z
DTEND:20120613T164500Z
X-MICROSOFT-CDO-ALLDAYEVENT:FALSE
SUMMARY:Visual Impact - The Interview Edge
DESCRIPTION:Presented by: Maureen Costello M.A.\, Principal of Image Launch\n\n\n\nBuilding visual rapport with business professionals virtually and in-person\, requires\n\nsome pre-planning. This session will look at tips and techniques to assist in preparing\n\nfor a positive visual connection with interviewers. In this interactive program\, you will\n\ngain new insights as to why visual impact is an important part of being taken seriously\n\nas a leader.\n\nThe objectives of this session:\n\n* Understand how our perceptions impact our visual expression\n\n* Identify four key areas of visual connection to expand your professional development\,\n\nand to prepare for the interview process\n\nMaureen Costello is Principal of Image Launch one of the top corporate image management consulting practices in Chicago. She works internationally with organizations on developing positive visual appearance strategies in the areas of professional presence\, business etiquette and personal branding.\n\nMaureen is the former fashion director for Paul Stuart menswear store and Talbot's. She\n\nalso owned a custom clothing salon for businesswomen in Chicago. As a consultant in the US and Singapore for four years\, Maureen works with large multinational organizations and firms. She also holds certifications in image management\, emotional intelligence and participant centered learning.
X-ALT-DESC;FMTTYPE=text/html:Presented by: Maureen Costello M.A.\, Principal of Image Launch<br />\n<br />\nBuilding visual rapport with business professionals virtually and in-person\, requires<br />\nsome pre-planning. This session will look at tips and techniques to assist in preparing<br />\nfor a positive visual connection with interviewers. In this interactive program\, you will<br />\ngain new insights as to why visual impact is an important part of being taken seriously<br />\nas a leader.<br />\nThe objectives of this session:<br />\n* Understand how our perceptions impact our visual expression<br />\n* Identify four key areas of visual connection to expand your professional development\,<br />\nand to prepare for the interview process<br />\nMaureen Costello is Principal of Image Launch one of the top corporate image management consulting practices in Chicago. She works internationally with organizations on developing positive visual appearance strategies in the areas of professional presence\, business etiquette and personal branding.<br />\nMaureen is the former fashion director for Paul Stuart menswear store and Talbot&rsquo\;s. She<br />\nalso owned a custom clothing salon for businesswomen in Chicago. As a consultant in the US and Singapore for four years\, Maureen works with large multinational organizations and firms. She also holds certifications in image management\, emotional intelligence and participant centered learning.<br />\n
LOCATION:Career Resource Center\, Grove Cultural Campus\, 40 E. Old Mill Road\, Lake Forest\, IL 60045
UID:e.1126.3194
SEQUENCE:3
DTSTAMP:20260423T080137Z
URL:http://lflbchamber.chambermaster.com/events/details/visual-impact-the-interview-edge-06-13-2012-3194
END:VEVENT

END:VCALENDAR
